BEGIN:VCALENDAR
VERSION:2.0
PRODID:-//Farm Fresh Fabrics - ECPv6.9.0//NONSGML v1.0//EN
CALSCALE:GREGORIAN
METHOD:PUBLISH
X-ORIGINAL-URL:https://farmfreshfabrics.com
X-WR-CALDESC:Events for Farm Fresh Fabrics
REFRESH-INTERVAL;VALUE=DURATION:PT1H
X-Robots-Tag:noindex
X-PUBLISHED-TTL:PT1H
BEGIN:VTIMEZONE
TZID:America/Halifax
BEGIN:DAYLIGHT
TZOFFSETFROM:-0400
TZOFFSETTO:-0300
TZNAME:ADT
DTSTART:20180311T060000
END:DAYLIGHT
BEGIN:STANDARD
TZOFFSETFROM:-0300
TZOFFSETTO:-0400
TZNAME:AST
DTSTART:20181104T050000
END:STANDARD
BEGIN:DAYLIGHT
TZOFFSETFROM:-0400
TZOFFSETTO:-0300
TZNAME:ADT
DTSTART:20190310T060000
END:DAYLIGHT
BEGIN:STANDARD
TZOFFSETFROM:-0300
TZOFFSETTO:-0400
TZNAME:AST
DTSTART:20191103T050000
END:STANDARD
END:VTIMEZONE
BEGIN:VEVENT
DTSTART;TZID=America/Halifax:20191207T090000
DTEND;TZID=America/Halifax:20191207T130000
DTSTAMP:20260423T092840
CREATED:20190515T165548Z
LAST-MODIFIED:20190515T165548Z
UID:21144-1575709200-1575723600@farmfreshfabrics.com
SUMMARY:Make-n-Take: Star Table Topper
DESCRIPTION:Cost: $20.00 \nDetails: Perfect for Christmas! We will be making the Star Table Topper! \nSupplies:\n–6 – 2.5″xWidth of Fabric strips in various coordinating prints\, as follows:\n       1 – for center\n       1 – for 1st row\n       1 – for 2nd row\n       3 – for outer row\n–24″x22″ piece of fabric for backing\n–rotary cutter/mat/ruler\n–sewing machine & supplies \n{Pattern & batting will be provided} \nPlease sign up at least 5 days prior to class!
URL:https://farmfreshfabrics.com/class/make-n-take-star-table-topper/
CATEGORIES:Make -n- Take
ATTACH;FMTTYPE=image/jpeg:https://farmfreshfabrics.com/wp-content/uploads/star-table-topper-pic.jpg
END:VEVENT
BEGIN:VEVENT
DTSTART;TZID=America/Halifax:20191119T120000
DTEND;TZID=America/Halifax:20191119T160000
DTSTAMP:20260423T092840
CREATED:20190515T170729Z
LAST-MODIFIED:20190515T170729Z
UID:21147-1574164800-1574179200@farmfreshfabrics.com
SUMMARY:Make-n-Take: Christmas Stocking
DESCRIPTION:Cost: $12.00 \nDetails: Another great project using Mini Charm Squares! Perfect for Christmas!! \nSupplies:\n–1 Mini Charm Pack {42 – 2.5″ squares}\n–1/2 yard fabric for cuff & lining/back of stocking\n–20″x15″ piece of batting\n–rotary cutter/mat/ruler\n–sewing machine & supplies \nPlease sign up at least 3 days prior to class!
URL:https://farmfreshfabrics.com/class/make-n-take-christmas-stocking/
CATEGORIES:Make -n- Take,Precuts SERIES
ATTACH;FMTTYPE=image/jpeg:https://farmfreshfabrics.com/wp-content/uploads/8b379a260d14ec90dd4b5d13a2d9252a-quilted-christmas-stockings-missouri-star-quilt.jpg
END:VEVENT
BEGIN:VEVENT
DTSTART;TZID=America/Halifax:20191107T100000
DTEND;TZID=America/Halifax:20191107T140000
DTSTAMP:20260423T092840
CREATED:20190515T164934Z
LAST-MODIFIED:20190515T164934Z
UID:21141-1573120800-1573135200@farmfreshfabrics.com
SUMMARY:Make-n-Take: All Boxed Up
DESCRIPTION:Cost: $20.00 \nDetails: Cute boxy bags w/a clear vinyl front! Perfect for sewing supplies\, kid’s toys\, etc. We will be making the LARGE size – approx. 6″x9″ {pattern includes a small size also!} \nSupplies:\n–6 Charm Squares {or scraps of fabrics approx. 5″x5″}\n–Fat Quarter (18″x22″) for main\n–1/2 yard fabric for lining\n–18″ zipper\n–rotary cutter/mat/ruler\n–sewing machine & supplies (including thread to match AND a zipper foot for your machine!)\n–Bring a packed lunch! \n{Pattern\, vinyl\, & Decor Bond will be provided} \nPlease sign up at least 5 days prior to class!
URL:https://farmfreshfabrics.com/class/make-n-take-all-boxed-up/
CATEGORIES:Make -n- Take
ATTACH;FMTTYPE=image/jpeg:https://farmfreshfabrics.com/wp-content/uploads/TAT303.jpg
END:VEVENT
BEGIN:VEVENT
DTSTART;TZID=America/Halifax:20191019T090000
DTEND;TZID=America/Halifax:20191019T130000
DTSTAMP:20260423T092840
CREATED:20190515T163625Z
LAST-MODIFIED:20190515T163625Z
UID:21136-1571475600-1571490000@farmfreshfabrics.com
SUMMARY:Make-n-Take: WhatCha Got Minis bag
DESCRIPTION:Cost: $20.00 \nDetails: Bags with a vinyl window to keep you organized. Two great sizes {we will be making the LARGE size ~ approx. 6.5″x10.5″} and easy to assemble. \nSupplies:\n–Scraps of matching fabrics – can all be different (need: 6 – 2″x4″; 2 – 1.5″x3.5″)\n–Fat Quarter (18″x22″) for main fabric\n–Fat Quarter (18″x22″) for lining\n–12″ zipper\n–rotary cutter/mat/ruler\n–sewing machine & supplies (including thread to match AND a zipper foot for your machine!) \n{Pattern\, vinyl & Decor Bond will be provided} \nPlease sign up at least 5 days prior to class!
URL:https://farmfreshfabrics.com/class/make-n-take-whatcha-got-minis-bag/
CATEGORIES:Make -n- Take
ATTACH;FMTTYPE=image/jpeg:https://farmfreshfabrics.com/wp-content/uploads/TAT326.jpg
END:VEVENT
BEGIN:VEVENT
DTSTART;TZID=America/Halifax:20190920T100000
DTEND;TZID=America/Halifax:20190920T150000
DTSTAMP:20260423T092840
CREATED:20190515T162701Z
LAST-MODIFIED:20190522T215959Z
UID:21133-1568973600-1568991600@farmfreshfabrics.com
SUMMARY:Make-n-Take: Gotta Have It Bag
DESCRIPTION:Cost: $25.00 \nDetails: Make it\, fill it\, roll it up\, and take it everywhere! Great for retreats\, sew-ins\, or hang next to your work space. Also perfect for jewelry\, cosmetics\, school supplies\, and more! Finished size: 9in x 17in. \nSupplies:\n–1/3 yard – main fabric (2/3 yd if directional)\n–10″x18″ lining fabric (will NOT be seen!)\n–4 – 14″ zippers\n–rotary cutter/mat/ruler\n–sewing machine & supplies (including thread to match zippers AND a zipper foot for your machine!)\n–Bring a packed lunch! \n{Pattern\, vinyl\, batting & Decor Bond will be provided} \nPlease sign up at least 5 days prior to class!
URL:https://farmfreshfabrics.com/class/make-n-take-gotta-have-it-bag/
CATEGORIES:Make -n- Take
ATTACH;FMTTYPE=image/jpeg:https://farmfreshfabrics.com/wp-content/uploads/SSQ087_3.jpg
END:VEVENT
BEGIN:VEVENT
DTSTART;TZID=America/Halifax:20190914T090000
DTEND;TZID=America/Halifax:20190914T130000
DTSTAMP:20260423T092840
CREATED:20180718T110709Z
LAST-MODIFIED:20190515T182014Z
UID:19187-1568451600-1568466000@farmfreshfabrics.com
SUMMARY:Shenandoah Wallhanging
DESCRIPTION:Cost: $18 \nDetails: We will making the Wallhanging size quilt (just the top…you will sandwich & quilt it on your own) from the “Shenandoah” pattern. You will learn the tips & tricks for this pattern (especially tips for cutting!)  {Pattern is included in the cost; and the pattern goes from wallhanging to king size quilt!} \nYou will need a panel (or 2/3 yard of a large print); 1.5 yards for sashing (and binding); 1/8 yard accent; 1.5 yards for backing.  {In our sample picture – the sashing is the pink; and the accent is the gold.}  ~ Bring a packed lunch! \nPlease sign up at least 3 days prior to class!
URL:https://farmfreshfabrics.com/class/shenandoah-wallhanging/
CATEGORIES:Make -n- Take
ATTACH;FMTTYPE=image/jpeg:https://farmfreshfabrics.com/wp-content/uploads/20180504_134525-shenandoah-wallhanging.jpg
END:VEVENT
BEGIN:VEVENT
DTSTART;TZID=America/Halifax:20190824T100000
DTEND;TZID=America/Halifax:20190824T120000
DTSTAMP:20260423T092840
CREATED:20190515T162221Z
LAST-MODIFIED:20190515T162221Z
UID:21130-1566640800-1566648000@farmfreshfabrics.com
SUMMARY:Make-n-Take: Time to Go Shopping Sack
DESCRIPTION:Cost: $10.00 \nDetails: Make your own grocery bag out of your favorite fabrics!  \nSupplies:\n–3/4 yard – main (outer) fabric\n–1/2 yard – lining fabric\n–rotary cutter/mat/ruler\n–sewing machine & supplies \n{Pattern will be provided} \nPlease sign up at least 5 days prior to class!
URL:https://farmfreshfabrics.com/class/make-n-take-time-to-go-shopping-sack/
CATEGORIES:Make -n- Take
ATTACH;FMTTYPE=image/jpeg:https://farmfreshfabrics.com/wp-content/uploads/TGSS-00.jpg
END:VEVENT
BEGIN:VEVENT
DTSTART;TZID=America/Halifax:20190709T130000
DTEND;TZID=America/Halifax:20190709T170000
DTSTAMP:20260423T092840
CREATED:20190515T161607Z
LAST-MODIFIED:20190515T162903Z
UID:21127-1562677200-1562691600@farmfreshfabrics.com
SUMMARY:Make-n-Take: Boxy Zipper Pouch
DESCRIPTION:Cost: $25.00 \nDetails: Have a mini charm pack & don’t know what to make with it? These boxy zipper pouches are just too cute! And easy! {We will be making the LARGE size – approx. size= 7.5″x3.5″x4.5″ ~ pattern makes 2 additional sizes!} \nSupplies:\n–1 MINI Charm Pack (need 35 – 2.5″ squares)\n–Fat Quarter (18″x22″) for lining\n–14″ zipper\n–sewing machine & supplies (including thread to match AND a zipper foot for your machine!)\n–rotary cutter/small mat/ruler \n{Pattern & fusible flex foam will be provided} \nPlease sign up at least 5 days prior to class!
URL:https://farmfreshfabrics.com/class/make-n-take-boxy-zipper-pouch/
CATEGORIES:Make -n- Take
ATTACH;FMTTYPE=image/jpeg:https://farmfreshfabrics.com/wp-content/uploads/SJ096.jpg
END:VEVENT
BEGIN:VEVENT
DTSTART;TZID=America/Halifax:20190629T090000
DTEND;TZID=America/Halifax:20190629T130000
DTSTAMP:20260423T092840
CREATED:20180718T112056Z
LAST-MODIFIED:20190515T143447Z
UID:19190-1561798800-1561813200@farmfreshfabrics.com
SUMMARY:Fold-n-Stitch Wreath
DESCRIPTION:Cost: $25 \nDetails: Wreath can also be used as a table topper (you can put a candle in the middle!) Makes a great gift idea!! These are FUN to make! (And addictive\, too!)  — {Class cost includes the pattern; foam & fusible web!} \nYou will need a 5/8 yard of fabric #1; 5/8 yard of fabric #2; and 3/8 yard of fabric #3; and a marking pen/pencil (Frixion pens work great!) ~~  {In top left picture – fabric #1 is the green; fabric #2 is the red; and fabric #3 is the white}  – Bring a packed lunch! \nPlease sign up at least 3 days prior to class!
URL:https://farmfreshfabrics.com/class/fold-n-stitch-wreath/
CATEGORIES:Make -n- Take
ATTACH;FMTTYPE=image/jpeg:https://farmfreshfabrics.com/wp-content/uploads/PQD-210-fold-stitch-wreath.jpg
END:VEVENT
BEGIN:VEVENT
DTSTART;TZID=America/Halifax:20190612T110000
DTEND;TZID=America/Halifax:20190612T160000
DTSTAMP:20260423T092840
CREATED:20180718T113558Z
LAST-MODIFIED:20190515T143713Z
UID:19194-1560337200-1560355200@farmfreshfabrics.com
SUMMARY:Barbados Bag
DESCRIPTION:Cost: $30 \nDetails: Awesome bag; great for traveling!! Size: 10-1/2in wide x 10in tall x 2in deep. Six pockets – 4 outside\, including one for cell phone. Easy zipper top closure.  {Class cost includes pattern; fusible fleece & decor bond} \nYou will need:\n— 1/2 yard Fabric #1 (main/top bag)\n— 1 FQ (or 1/2 yard) Fabric #2 (front pocket accent)\n— 1/2 yard Fabric #3 (front/back pockets)\n— 1/4 yard Fabric #4 (strap)\n— 1/2 yard Fabric #5 (lining)\n— 9″ zipper\n— 12″ zipper\n— and a PACKED LUNCH!! \n \nPlease sign up at least 3 days prior to class!
URL:https://farmfreshfabrics.com/class/barbados-bag/
CATEGORIES:Make -n- Take
ATTACH;FMTTYPE=image/jpeg:https://farmfreshfabrics.com/wp-content/uploads/20180426_164339-barbados-bag-1.jpg
END:VEVENT
BEGIN:VEVENT
DTSTART;TZID=America/Halifax:20190425T130000
DTEND;TZID=America/Halifax:20190425T150000
DTSTAMP:20260423T092840
CREATED:20190310T234121Z
LAST-MODIFIED:20190310T234823Z
UID:20804-1556197200-1556204400@farmfreshfabrics.com
SUMMARY:English Paper Piecing
DESCRIPTION:Cost: $25.00 \nDetails: Guest instructor\, Kathy Partridge\, will be teaching this class ~ Learn how to do English Paper Piecing. {No machine required…this is all HAND SEWING!} Fabric and templates will be provided. \nSupplies:\n–White thread\n–Needle (for hand sewing)\n–Scissors \nPlease sign up at least 5 days prior to class!
URL:https://farmfreshfabrics.com/class/english-paper-piecing/
CATEGORIES:Make -n- Take
ATTACH;FMTTYPE=image/jpeg:https://farmfreshfabrics.com/wp-content/uploads/52136321_617513988709425_3328687641100025856_n.jpg
END:VEVENT
BEGIN:VEVENT
DTSTART;TZID=America/Halifax:20190316T100000
DTEND;TZID=America/Halifax:20190316T150000
DTSTAMP:20260423T092840
CREATED:20190112T233533Z
LAST-MODIFIED:20190112T233533Z
UID:20048-1552730400-1552748400@farmfreshfabrics.com
SUMMARY:Make-N-Take: Necessary Clutch Wallet
DESCRIPTION:Cost: $38.00 \nDetails: Guest instructor\, Joyce Swackhammer\, will be teaching this class ~ The Necessary Clutch Wallet isn’t just your ordinary wallet. Carry your cell phone/mobile\, checks\, cash\, cards\, coins and still have room for your favorite lipstick or even personal items. With its closed ends\, everything is safe and secure and there is never any worry about anything sliding out. Wallet finishes at: 8″(long) x 4″(high) x 1″(deep). Learn all the tips & tricks to making this awesome wallet! ****NOT for BEGINNERS!!**** \nSupplies:\n–Fat Quarter (18″x21″) for exterior\n–Fat Quarter (18″x21″) for lining\n–1/2 yard – for pocket\n–12″ zipper\n–Water soluble marking pen (or Frixion pen)\n–Thread to match\n–Jeans needle (for sewing through thicknesses)\n–Rotary cutter/mat/ruler\n–Sewing machine\n–Basic Sewing Supplies\n–***BRING a LUNCH!!! \n{Pattern\, interfacings & Turn Lock will be provided} \nPlease sign up at least 5 days prior to class!
URL:https://farmfreshfabrics.com/class/make-n-take-necessary-clutch-wallet-2/
CATEGORIES:Make -n- Take
ATTACH;FMTTYPE=image/jpeg:https://farmfreshfabrics.com/wp-content/uploads/EMMB-101-1.jpg
END:VEVENT
BEGIN:VEVENT
DTSTART;TZID=America/Halifax:20181107T130000
DTEND;TZID=America/Halifax:20181107T160000
DTSTAMP:20260423T092840
CREATED:20180924T115653Z
LAST-MODIFIED:20181008T200842Z
UID:19667-1541595600-1541606400@farmfreshfabrics.com
SUMMARY:Make-n-Take: Striped Fabric Box Trio
DESCRIPTION:Cost: $30.00 \nDetails: Perfect gift for Christmas! We will be making the Striped Fabric Box Trio. \nSupplies:\n–10 – 2.5″ x Width of Fabric strips (contrasting colors work best!)\n–5/8 yd. lining fabric\n–rotary cutter/mat/ruler\n–sewing machine & supplies \n{Pattern\, fusible fleece & Decor Bond will be provided} \nPlease sign up at least 5 days prior to class!
URL:https://farmfreshfabrics.com/class/make-n-take-striped-fabric-box-trio/
CATEGORIES:Make -n- Take
ATTACH;FMTTYPE=image/png:https://farmfreshfabrics.com/wp-content/uploads/100_8448-png.png
END:VEVENT
BEGIN:VEVENT
DTSTART;TZID=America/Halifax:20181103T100000
DTEND;TZID=America/Halifax:20181103T130000
DTSTAMP:20260423T092840
CREATED:20180718T115837Z
LAST-MODIFIED:20180822T115823Z
UID:19200-1541239200-1541250000@farmfreshfabrics.com
SUMMARY:Attic Window Wallhanging
DESCRIPTION:Cost: $15 \nDetails: You will learn how to use a panel (or just some pretty fabric) and turn it into an “attic window” wallhanging. \nYou will need:\n — panel (or 2/3 yard of pretty fabric)\n — 3/4+ yard – dark brown fabric\n — 3/4+ yard – light brown fabric\n — 2/3+ yard – white fabric\n — 1+ yard – border fabric (picture does not show border added)\n(***yardage is estimated\, because it really depends on how big your “window panes” are; as well as how much of the panel you use – I did not use the entire 44″ length for my sample)\n — rotary cutter/mat/ruler\n — calculator \nPlease sign up at least 3 days prior to class!
URL:https://farmfreshfabrics.com/class/attic-window-wallhanging/
CATEGORIES:Make -n- Take
ATTACH;FMTTYPE=image/jpeg:https://farmfreshfabrics.com/wp-content/uploads/20180718_151708-attic-window-wall-hanging.jpg
END:VEVENT
BEGIN:VEVENT
DTSTART;TZID=America/Halifax:20181020T100000
DTEND;TZID=America/Halifax:20181020T130000
DTSTAMP:20260423T092840
CREATED:20180718T113929Z
LAST-MODIFIED:20180822T114206Z
UID:19198-1540029600-1540040400@farmfreshfabrics.com
SUMMARY:Twister Tray
DESCRIPTION:Cost: $30 \nDetails: Learn how to make this cute tray (approx 9″x11″x2″high) ~ makes a great Christmas gift!! {Class cost includes the pattern\, the Mini Twister Tool\, and the heat moldable stabilizer} \nYou will need:\n — 30 – 4.5″ squares (contrasting colors – i.e. – 15 white squares & 15 red & green squares)\n — 1/3 yard for the outer border\n — 1/2 yard for backing & bias binding\n — rotary cutter/mat/ruler \n \nPlease sign up at least 3 days prior to class!
URL:https://farmfreshfabrics.com/class/twister-tray/
CATEGORIES:Make -n- Take
ATTACH;FMTTYPE=image/jpeg:https://farmfreshfabrics.com/wp-content/uploads/TWS109.jpg
END:VEVENT
BEGIN:VEVENT
DTSTART;TZID=America/Halifax:20180718T100000
DTEND;TZID=America/Halifax:20180718T130000
DTSTAMP:20260423T092840
CREATED:20180514T235714Z
LAST-MODIFIED:20180514T235714Z
UID:18705-1531908000-1531918800@farmfreshfabrics.com
SUMMARY:Koin Keeper Wallet
DESCRIPTION:Cost: $10 \nDetails: Guest instructor Joyce Swackhammer will be teaching you how to sew the “Koin Keeper” Wallet\, a very sweet and easy wallet to hold everything you need to go out on the town. Even has a zipper pocket for your coins! She will be teaching you some tips & tricks along the way! Great starting project for those who want to learn how to sew zippers and/or to make bags & purses! \nYou will need a Fat 1/8 (or a Fat Quarter) for the main fabric; a coordinating fat quarter for the accent fabric; a 7″ zipper; and a small piece of 1″ Velcro OR a Kam snap.  \nPlease sign up at least 3 days prior to class!
URL:https://farmfreshfabrics.com/class/koin-keeper-wallet/
CATEGORIES:Make -n- Take
ATTACH;FMTTYPE=image/jpeg:https://farmfreshfabrics.com/wp-content/uploads/TAT126-koin-keeper.jpg
END:VEVENT
BEGIN:VEVENT
DTSTART;TZID=America/Halifax:20180627T130000
DTEND;TZID=America/Halifax:20180627T160000
DTSTAMP:20260423T092840
CREATED:20180425T010700Z
LAST-MODIFIED:20180425T011454Z
UID:18610-1530104400-1530115200@farmfreshfabrics.com
SUMMARY:Make-n-Take: Project Pouch
DESCRIPTION:Cost: $7 \nDetails: Make a zippered project pouch with a see-through vinyl front. This is really FUN to make! You will learn: sewing with vinyl\, how-to sew a zipper\, and sewing binding. Vinyl & batting provided. You will need: Mini charm pack (42 – 2.5″ squares); 3/4 yd. fabric to match mini charm pack (**or 2 FQ and 1/4 yard for binding); 14″ zipper. \nPlease sign up at least 3 days prior to class! \nFront view:\n \nBack view:
URL:https://farmfreshfabrics.com/class/make-n-take-project-pouch/
CATEGORIES:Make -n- Take,Precuts SERIES
ATTACH;FMTTYPE=image/jpeg:https://farmfreshfabrics.com/wp-content/uploads/20180424_164451.jpg
END:VEVENT
BEGIN:VEVENT
DTSTART;TZID=America/Halifax:20180524T100000
DTEND;TZID=America/Halifax:20180524T120000
DTSTAMP:20260423T092840
CREATED:20180425T005504Z
LAST-MODIFIED:20180425T011929Z
UID:18605-1527156000-1527163200@farmfreshfabrics.com
SUMMARY:Make-n-Take: Travel Pillow
DESCRIPTION:Cost: $14 \nDetails: Linda will be hosting this Make-n-Take! You will be sewing a cute & useful travel pillow with a pocket. Cost includes the pattern & the pillow form. You will need 1/2 yard of the main fabric and 1/2 yard for pocket & handle (3/4 yard if using a directional print.)  \nPlease sign up at least 5 days prior to class!
URL:https://farmfreshfabrics.com/class/make-n-take-travel-pillow/
CATEGORIES:Make -n- Take
ATTACH;FMTTYPE=image/jpeg:https://farmfreshfabrics.com/wp-content/uploads/20180424_164324.jpg
END:VEVENT
END:VCALENDAR